BEGIN:VCALENDAR
VERSION:2.0
PRODID:icalendar-ruby
CALSCALE:GREGORIAN
BEGIN:VEVENT
DTSTAMP:20260423T090704Z
UID:f1324767-b3ea-461e-bcad-f2af2b7d8b4d
DTSTART;TZID=Pacific/Auckland:20260427T120000
DTEND;TZID=Pacific/Auckland:20260427T123000
DESCRIPTION:Property ID# 604474
SUMMARY:Openhome for 24 Te Aranui Drive
END:VEVENT
END:VCALENDAR
